BEGIN:VCALENDAR
VERSION:2.0
PRODID:icalendar-ruby
CALSCALE:GREGORIAN
METHOD:PUBLISH
BEGIN:VEVENT
DTSTAMP:20260424T144416Z
UID:86-2347555@allpeoplesgathering.org
DTSTART:20261004T141500Z
DTEND:20261004T150000Z
CLASS:PUBLIC
CREATED:20260424T090801
DESCRIPTION:Come and share your musical talent and join the choir! Minister
  of Music Tevelis will lead you in what the songs of the day are.
LAST-MODIFIED:20260424T090801
LOCATION:All Peoples Gathering Lutheran Church
SUMMARY:Choir Practice
URL;VALUE=URI:https://www.allpeoplesgathering.org/events/choir-practice/202
 6-10-04
ATTACH;FILENAME=ChoirJam Session-4.png;FMTTYPE=image/png:https://dq5pwpg1q8
 ru0.cloudfront.net/2025/11/24/17/40/26/e32261d1-e6bb-43a7-b994-84c436c5083
 3/ChoirJam%20Session-4.png
END:VEVENT
END:VCALENDAR
