BEGIN:VCALENDAR
VERSION:2.0
PRODID:icalendar-ruby
CALSCALE:GREGORIAN
METHOD:PUBLISH
BEGIN:VEVENT
DTSTAMP:20260424T092405Z
UID:85-2344203@allpeoplesgathering.org
DTSTART:20260919T213000Z
DTEND:20260919T223000Z
CLASS:PUBLIC
CREATED:20260423T204543
DESCRIPTION:
LAST-MODIFIED:20260423T204543
LOCATION:All Peoples Gathering Lutheran Church
SUMMARY:Human Concerns Meal Program
URL;VALUE=URI:https://www.allpeoplesgathering.org/events/human-concerns-mea
 l-program/2026-09-19
END:VEVENT
END:VCALENDAR
