BEGIN:VCALENDAR
VERSION:2.0
PRODID:icalendar-ruby
CALSCALE:GREGORIAN
METHOD:PUBLISH
BEGIN:VEVENT
DTSTAMP:20260424T111540Z
UID:85-2345854@allpeoplesgathering.org
DTSTART:20260926T213000Z
DTEND:20260926T223000Z
CLASS:PUBLIC
CREATED:20260424T061401
DESCRIPTION:
LAST-MODIFIED:20260424T061401
LOCATION:All Peoples Gathering Lutheran Church
SUMMARY:Human Concerns Meal Program
URL;VALUE=URI:https://www.allpeoplesgathering.org/events/human-concerns-mea
 l-program/2026-09-26
END:VEVENT
END:VCALENDAR
