BEGIN:VCALENDAR
VERSION:2.0
PRODID:icalendar-ruby
CALSCALE:GREGORIAN
METHOD:PUBLISH
BEGIN:VEVENT
DTSTAMP:20260424T131932Z
UID:85-2345855@allpeoplesgathering.org
DTSTART:20261003T213000Z
DTEND:20261003T223000Z
CLASS:PUBLIC
CREATED:20260424T061401
DESCRIPTION:
LAST-MODIFIED:20260424T061401
LOCATION:All Peoples Gathering Lutheran Church
SUMMARY:Human Concerns Meal Program
URL;VALUE=URI:https://www.allpeoplesgathering.org/events/human-concerns-mea
 l-program/2026-10-03
END:VEVENT
END:VCALENDAR
