BEGIN:VCALENDAR
VERSION:2.0
PRODID:icalendar-ruby
CALSCALE:GREGORIAN
METHOD:PUBLISH
BEGIN:VEVENT
DTSTAMP:20260424T144101Z
UID:85-2347506@allpeoplesgathering.org
DTSTART:20261010T213000Z
DTEND:20261010T223000Z
CLASS:PUBLIC
CREATED:20260424T090800
DESCRIPTION:
LAST-MODIFIED:20260424T090800
LOCATION:All Peoples Gathering Lutheran Church
SUMMARY:Human Concerns Meal Program
URL;VALUE=URI:https://www.allpeoplesgathering.org/events/human-concerns-mea
 l-program/2026-10-10
END:VEVENT
END:VCALENDAR
