BEGIN:VCALENDAR
VERSION:2.0
PRODID:icalendar-ruby
CALSCALE:GREGORIAN
METHOD:PUBLISH
BEGIN:VEVENT
DTSTAMP:20260421T234931Z
UID:27-2321761@allpeoplesgathering.org
DTSTART:20260831T223000Z
DTEND:20260831T231500Z
CLASS:PUBLIC
CREATED:20260421T163352
DESCRIPTION:Come and get a warm meal.
LAST-MODIFIED:20260421T163352
LOCATION:All Peoples Gathering Church
SUMMARY:St. Vincent De Paul Dinner
URL;VALUE=URI:https://www.allpeoplesgathering.org/events/st-vincent-de-paul
 -dinner/2026-08-31
END:VEVENT
END:VCALENDAR
