BEGIN:VCALENDAR
VERSION:2.0
PRODID:icalendar-ruby
CALSCALE:GREGORIAN
METHOD:PUBLISH
BEGIN:VEVENT
DTSTAMP:20260422T072119Z
UID:27-2323412@allpeoplesgathering.org
DTSTART:20261012T223000Z
DTEND:20261012T231500Z
CLASS:PUBLIC
CREATED:20260421T191234
DESCRIPTION:Come and get a warm meal.
LAST-MODIFIED:20260421T191234
LOCATION:All Peoples Gathering Church
SUMMARY:St. Vincent De Paul Dinner
URL;VALUE=URI:https://www.allpeoplesgathering.org/events/st-vincent-de-paul
 -dinner/2026-10-12
END:VEVENT
END:VCALENDAR
