BEGIN:VCALENDAR
VERSION:2.0
PRODID:icalendar-ruby
CALSCALE:GREGORIAN
METHOD:PUBLISH
BEGIN:VEVENT
DTSTAMP:20260422T000154Z
UID:44-2322310@allpeoplesgathering.org
DTSTART:20260827T223000Z
DTEND:20260827T231500Z
CLASS:PUBLIC
CREATED:20260421T163354
DESCRIPTION:Come and get a hot meal.
LAST-MODIFIED:20260421T163354
LOCATION:APGC
SUMMARY:St. Vincent de Paul Meal
URL;VALUE=URI:https://www.allpeoplesgathering.org/events/st-vincent-de-paul
 -meal--44/2026-08-27
END:VEVENT
END:VCALENDAR
