BEGIN:VCALENDAR
VERSION:2.0
PRODID:icalendar-ruby
CALSCALE:GREGORIAN
METHOD:PUBLISH
BEGIN:VEVENT
DTSTAMP:20260422T012713Z
UID:44-2323957@allpeoplesgathering.org
DTSTART:20260903T223000Z
DTEND:20260903T231500Z
CLASS:PUBLIC
CREATED:20260421T191237
DESCRIPTION:Come and get a hot meal.
LAST-MODIFIED:20260421T191237
LOCATION:APGC
SUMMARY:St. Vincent de Paul Meal
URL;VALUE=URI:https://www.allpeoplesgathering.org/events/st-vincent-de-paul
 -meal--44/2026-09-03
END:VEVENT
END:VCALENDAR
