BEGIN:VCALENDAR
VERSION:2.0
PRODID:icalendar-ruby
CALSCALE:GREGORIAN
METHOD:PUBLISH
BEGIN:VEVENT
DTSTAMP:20260421T173218Z
UID:42-2318658@allpeoplesgathering.org
DTSTART:20260922T223000Z
DTEND:20260922T231500Z
CLASS:PUBLIC
CREATED:20260421T111858
DESCRIPTION:Come and get a warm meal.
LAST-MODIFIED:20260421T111858
LOCATION:APGC
SUMMARY:St. Vincent de Paul Meal
URL;VALUE=URI:https://www.allpeoplesgathering.org/events/st-vincent-de-paul
 -meal/2026-09-22
END:VEVENT
END:VCALENDAR
