BEGIN:VCALENDAR
VERSION:2.0
PRODID:icalendar-ruby
CALSCALE:GREGORIAN
METHOD:PUBLISH
BEGIN:VEVENT
DTSTAMP:20260421T200940Z
UID:42-2320305@allpeoplesgathering.org
DTSTART:20261006T223000Z
DTEND:20261006T231500Z
CLASS:PUBLIC
CREATED:20260421T135652
DESCRIPTION:Come and get a warm meal.
LAST-MODIFIED:20260421T135652
LOCATION:APGC
SUMMARY:St. Vincent de Paul Meal
URL;VALUE=URI:https://www.allpeoplesgathering.org/events/st-vincent-de-paul
 -meal/2026-10-06
END:VEVENT
END:VCALENDAR
