BEGIN:VCALENDAR
VERSION:2.0
PRODID:icalendar-ruby
CALSCALE:GREGORIAN
METHOD:PUBLISH
BEGIN:VEVENT
DTSTAMP:20260421T225304Z
UID:42-2321952@allpeoplesgathering.org
DTSTART:20261020T223000Z
DTEND:20261020T231500Z
CLASS:PUBLIC
CREATED:20260421T163353
DESCRIPTION:Come and get a warm meal.
LAST-MODIFIED:20260421T163353
LOCATION:APGC
SUMMARY:St. Vincent de Paul Meal
URL;VALUE=URI:https://www.allpeoplesgathering.org/events/st-vincent-de-paul
 -meal/2026-10-20
END:VEVENT
END:VCALENDAR
